BEGIN:VCALENDAR
VERSION:2.0
PRODID:gruene-schwielowsee.de
METHOD:PUBLISH
BEGIN:VTIMEZONE
TZID:Europe/Berlin
X-LIC-LOCATION:Europe/Berlin
BEGIN:DAYLIGHT
TZOFFSETFROM:+0100
TZOFFSETTO:+0200
TZNAME:CEST
DTSTART:19700329T020000
RRULE:FREQ=YEARLY;INTERVAL=1;BYDAY=-1SU;BYMONTH=3
END:DAYLIGHT
BEGIN:STANDARD
TZOFFSETFROM:+0200
TZOFFSETTO:+0100
TZNAME:CET
DTSTART:19701025T030000
RRULE:FREQ=YEARLY;INTERVAL=1;BYDAY=-1SU;BYMONTH=10
END:STANDARD
END:VTIMEZONE
BEGIN:VEVENT
UID:2ac69bcf84af082dde6539fbf16b2d87@gruene-schwielowsee.de
URL;VALUE=URI:https://gruene-schwielowsee.de/termine/sitzung-des-ortsbeir
 ates-ferch-2/
LOCATION:Rathaus, Sitzungssaal EG, Potsdamer Platz 9, 14548 Schwielowsee
SUMMARY:Sitzung des Ortsbeirates Ferch
DESCRIPTION;ALTREP="data:text/html,%3Cp%3EExportiert%20aus%20ALLRIS%20am%
 2020.04.2026%3Cbr%20%2F%3E%0A%3Cbr%20%2F%3E%0A%3Cbr%20%2F%3E%0ADie%20Sitz
 ung%20in%20ALLRIS%20net%3A%3Cbr%20%2F%3E%0Ahttps%3A%2F%2Fratsinfo-online.
 net%2Fschwielowsee-bi%2Fto010.asp%3FSILFDNR%3D615%3C%2Fp%3E":Exportiert a
 us ALLRIS am 20.04.2026\n\nDie Sitzung in ALLRIS net:\n\nhttps://ratsinfo
 -online.net/schwielowsee-bi/to010.asp?SILFDNR=615
CLASS:PUBLIC
DTSTART;TZID=Europe/Berlin:20260421T190000
DTEND;TZID=Europe/Berlin:20260421T200000
DTSTAMP:20260420T032451
END:VEVENT
END:VCALENDAR