BEGIN:VCALENDAR
VERSION:2.0
PRODID:gruene-schwielowsee.de
METHOD:PUBLISH
BEGIN:VTIMEZONE
TZID:Europe/Berlin
X-LIC-LOCATION:Europe/Berlin
BEGIN:DAYLIGHT
TZOFFSETFROM:+0100
TZOFFSETTO:+0200
TZNAME:CEST
DTSTART:19700329T020000
RRULE:FREQ=YEARLY;INTERVAL=1;BYDAY=-1SU;BYMONTH=3
END:DAYLIGHT
BEGIN:STANDARD
TZOFFSETFROM:+0200
TZOFFSETTO:+0100
TZNAME:CET
DTSTART:19701025T030000
RRULE:FREQ=YEARLY;INTERVAL=1;BYDAY=-1SU;BYMONTH=10
END:STANDARD
END:VTIMEZONE
BEGIN:VEVENT
UID:c317ddc589e79831b142dc5afb89c999@gruene-schwielowsee.de
URL;VALUE=URI:https://gruene-schwielowsee.de/termine/sitzung-der-gemeinde
 vertretung-schwielowsee/
LOCATION:Rathaus, Sitzungssaal EG, Potsdamer Platz 9, 14548 Schwielowsee
SUMMARY:Sitzung der Gemeindevertretung Schwielowsee
DESCRIPTION;ALTREP="data:text/html,%3Cp%3EExportiert%20aus%20ALLRIS%20am%
 2020.04.2026%3Cbr%20%2F%3E%0A%3Cbr%20%2F%3E%0A%3Cbr%20%2F%3E%0ADie%20Sitz
 ung%20in%20ALLRIS%20net%3A%3Cbr%20%2F%3E%0Ahttps%3A%2F%2Fratsinfo-online.
 net%2Fschwielowsee-bi%2Fsi010_e.asp%3FMM%3D10%26amp%3BYY%3D2026%3C%2Fp%3E
 ":Exportiert aus ALLRIS am 20.04.2026\n\nDie Sitzung in ALLRIS net:\n\nht
 tps://ratsinfo-online.net/schwielowsee-bi/si010_e.asp?MM=10&YY=2026
CLASS:PUBLIC
DTSTART;TZID=Europe/Berlin:20261014T190000
DTEND;TZID=Europe/Berlin:20261014T200000
DTSTAMP:20260420T032451
END:VEVENT
END:VCALENDAR