BEGIN:VCALENDAR
VERSION:2.0
PRODID:gruene-schwielowsee.de
METHOD:PUBLISH
BEGIN:VTIMEZONE
TZID:Europe/Berlin
X-LIC-LOCATION:Europe/Berlin
BEGIN:DAYLIGHT
TZOFFSETFROM:+0100
TZOFFSETTO:+0200
TZNAME:CEST
DTSTART:19700329T020000
RRULE:FREQ=YEARLY;INTERVAL=1;BYDAY=-1SU;BYMONTH=3
END:DAYLIGHT
BEGIN:STANDARD
TZOFFSETFROM:+0200
TZOFFSETTO:+0100
TZNAME:CET
DTSTART:19701025T030000
RRULE:FREQ=YEARLY;INTERVAL=1;BYDAY=-1SU;BYMONTH=10
END:STANDARD
END:VTIMEZONE
BEGIN:VEVENT
UID:94bd57a86fa87805b777905d378b45db@gruene-schwielowsee.de
URL;VALUE=URI:https://gruene-schwielowsee.de/termine/oeffentliches-treffe
 n-und-mitgliederversammlung-der-gruenen-schwielowsee-2/
LOCATION:Schwielowsee, 14 Schwielowsee, Deutschland
SUMMARY:Öffentliches Treffen und Mitgliederversammlung der Grünen Schwi
 elowsee
DESCRIPTION;ALTREP="data:text/html,%3Cp%3EInteressierte%20sind%20herzlich
 %20willkommen%21%20Wir%20laden%20alle%20interessierten%20B%C3%BCrger%2Ain
 nen%20zum%20Informations-%20und%20Meinungsaustausch%20ein.%20Wo%20das%20T
 reffen%20stattfindet%2C%20teilen%20wir%20jeweils%20in%20unserem%20Newslet
 ter%20%28%3Ca%20href%3D%22https%3A%2F%2Fgruene-schwielowsee.de%2Fnewslett
 er-2%2F%22%20target%3D%22_blank%22%3E%3Cu%3Ehttps%3A%2F%2Fgruene-schwielo
 wsee.de%2Fnewsletter-2%2F%3C%2Fu%3E%3C%2Fa%3E%29%20und%20auf%20Nachfrage%
 20mit.%3Cbr%3E%3Cbr%3EDie%20Einladung%20zur%20Mitgliederversammlung%20ink
 l.%20der%20Tagesordnung%20erhalten%20alle%20Mitglieder%20fristgerecht%20p
 er%20Email.%3C%2Fp%3E":Interessierte sind herzlich willkommen! Wir laden 
 alle interessierten Bürger*innen zum Informations- und Meinungsaustausch
  ein. Wo das Treffen stattfindet\, teilen wir jeweils in unserem Newslett
 er (https://gruene-schwielowsee.de/newsletter-2/) und auf Nachfrage mit.D
 ie Einladung zur Mitgliederversammlung inkl. der Tagesordnung erhalten al
 le Mitglieder fristgerecht per Email.
CLASS:PUBLIC
DTSTART;TZID=Europe/Berlin:20260618T190000
DTEND;TZID=Europe/Berlin:20260618T203000
DTSTAMP:20260420T032552
END:VEVENT
END:VCALENDAR