BEGIN:VCALENDAR
VERSION:2.0
PRODID:gruene-schwielowsee.de
METHOD:PUBLISH
BEGIN:VTIMEZONE
TZID:Europe/Berlin
X-LIC-LOCATION:Europe/Berlin
BEGIN:DAYLIGHT
TZOFFSETFROM:+0100
TZOFFSETTO:+0200
TZNAME:CEST
DTSTART:19700329T020000
RRULE:FREQ=YEARLY;INTERVAL=1;BYDAY=-1SU;BYMONTH=3
END:DAYLIGHT
BEGIN:STANDARD
TZOFFSETFROM:+0200
TZOFFSETTO:+0100
TZNAME:CET
DTSTART:19701025T030000
RRULE:FREQ=YEARLY;INTERVAL=1;BYDAY=-1SU;BYMONTH=10
END:STANDARD
END:VTIMEZONE
BEGIN:VEVENT
UID:3cf96abd9f168884583fb336bdbc772d@gruene-schwielowsee.de
URL;VALUE=URI:https://gruene-schwielowsee.de/termine/oeffentliches-treffe
 n-der-gruenen-schwielowsee/
LOCATION:Schwielowsee, 14 Schwielowsee, Deutschland
SUMMARY:Öffentliches Treffen der Grünen Schwielowsee
DESCRIPTION;ALTREP="data:text/html,%3Cp%3EInteressierte%20sind%20herzlich
 %20willkommen%21%20Wir%20laden%20alle%20interessierten%20B%C3%BCrger%2Ain
 nen%20zum%20Informations-%20und%20Meinungsaustausch%20ein.%20Wo%20das%20T
 reffen%20stattfindet%2C%20teilen%20wir%20jeweils%20in%20unserem%20Newslet
 ter%20%28https%3A%2F%2Fgruene-schwielowsee.de%2Fnewsletter-2%2F%29%20und%
 20auf%20Nachfrage%20mit.%3Cbr%20%2F%3E%0A%3Cbr%20%2F%3E%0AAchtung%21%20Di
 esmal%20findet%20es%20ausnahmsweise%20nicht%20am%20Donnerstag%2C%20sonder
 n%20am%20Freitag%20statt%21%3C%2Fp%3E":Interessierte sind herzlich willko
 mmen! Wir laden alle interessierten Bürger*innen zum Informations- und M
 einungsaustausch ein. Wo das Treffen stattfindet\, teilen wir jeweils in 
 unserem Newsletter (https://gruene-schwielowsee.de/newsletter-2/) und auf
  Nachfrage mit.\n\nAchtung! Diesmal findet es ausnahmsweise nicht am Donn
 erstag\, sondern am Freitag statt!
CLASS:PUBLIC
DTSTART;TZID=Europe/Berlin:20260508T190000
DTEND;TZID=Europe/Berlin:20260508T203000
DTSTAMP:20260420T032553
END:VEVENT
END:VCALENDAR