BEGIN:VCALENDAR
VERSION:2.0
PRODID:gruene-schwielowsee.de
METHOD:PUBLISH
BEGIN:VTIMEZONE
TZID:Europe/Berlin
X-LIC-LOCATION:Europe/Berlin
BEGIN:DAYLIGHT
TZOFFSETFROM:+0100
TZOFFSETTO:+0200
TZNAME:CEST
DTSTART:19700329T020000
RRULE:FREQ=YEARLY;INTERVAL=1;BYDAY=-1SU;BYMONTH=3
END:DAYLIGHT
BEGIN:STANDARD
TZOFFSETFROM:+0200
TZOFFSETTO:+0100
TZNAME:CET
DTSTART:19701025T030000
RRULE:FREQ=YEARLY;INTERVAL=1;BYDAY=-1SU;BYMONTH=10
END:STANDARD
END:VTIMEZONE
BEGIN:VEVENT
UID:dc3e107e3c0e2e708918c5e41533c66f@gruene-schwielowsee.de
URL;VALUE=URI:https://gruene-potsdam-mittelmark.de/blog/termine/fest-fuer
 -demokratie-und-vielfalt/
LOCATION:August-Mattausch-Park, Teltow
SUMMARY:Fest für Demokratie und Vielfalt
DESCRIPTION;ALTREP="data:text/html,%3Cp%3EAm%2001.05.2026%20wird%20von%20
 10%3A00%20Uhr%20bis%2018%3A00%20Uhr%20im%20August-Mattausch-Park%20das%20
 %C3%BCberparteiliche%20Fest%20f%C3%BCr%20Demokratie%20%26amp%3B%20Vielfal
 t%20stattfinden.%20Neben%20einem%20vielf%C3%A4ltigen%20Kulturprogramm%20w
 erden%20sich%20Vereine%20und%20Institutionen%20aus%20der%20Region%20Telto
 w-Kleinmachnow-Stahnsdorf%20pr%C3%A4sentieren.%20Es%20wird%20zu%20untersc
 hiedlichen%20Themen%20Diskussionsrunden%20geben.%20F%C3%BCr%20das%20leibl
 iche%20Wohl%20der%20Besucherinnen%20und%20Besucher%20k%C3%B6nnen%20versch
 iedenste%20Angebote%20genutzt%20werden.%3C%2Fp%3E%3Cp%3E%3Ca%20href%3D%22
 https%3A%2F%2Fgruene-potsdam-mittelmark.de%2Fblog%2Ftermine%2Ffest-fuer-d
 emokratie-und-vielfalt%2F%22%20title%3D%22Link%20in%20einem%20neuen%20Tab
 %20%C3%B6ffnen%22%20target%3D%22_blank%22%3EWeitere%20Informationen%26nbs
 p%3B%3Ci%20class%3D%22fa-solid%20fa-up-right-from-square%22%3E%3C%2Fi%3E%
 3C%2Fa%3E%3C%2Fp%3E":Am 01.05.2026 wird von 10:00 Uhr bis 18:00 Uhr im Au
 gust-Mattausch-Park das überparteiliche Fest für Demokratie & Vielfalt 
 stattfinden. Neben einem vielfältigen Kulturprogramm werden sich Vereine
  und Institutionen aus der Region Teltow-Kleinmachnow-Stahnsdorf präsent
 ieren. Es wird zu unterschiedlichen Themen Diskussionsrunden geben. Für 
 das leibliche Wohl der Besucherinnen und Besucher können verschiedenste 
 Angebote genutzt werden.Weitere Informationen 
CLASS:PUBLIC
DTSTART;TZID=Europe/Berlin:20260501T100000
DTEND;TZID=Europe/Berlin:20260501T180000
DTSTAMP:20260421T135711
END:VEVENT
END:VCALENDAR